Package: midasHLA Version: 1.12.0 Command: /Library/Frameworks/R.framework/Resources/bin/R CMD check --install=check:midasHLA.install-out.txt --library=/Library/Frameworks/R.framework/Resources/library --no-vignettes --timings midasHLA_1.12.0.tar.gz StartedAt: 2024-10-17 08:36:54 -0400 (Thu, 17 Oct 2024) EndedAt: 2024-10-17 09:00:40 -0400 (Thu, 17 Oct 2024) EllapsedTime: 1425.3 seconds RetCode: 0 Status: WARNINGS CheckDir: midasHLA.Rcheck Warnings: 1