Package: midasHLA Version: 1.12.0 Command: /home/biocbuild/bbs-3.19-bioc/R/bin/R CMD build --keep-empty-dirs --no-resave-data midasHLA StartedAt: 2024-10-16 19:28:21 -0400 (Wed, 16 Oct 2024) EndedAt: 2024-10-16 19:30:30 -0400 (Wed, 16 Oct 2024) EllapsedTime: 128.2 seconds RetCode: 0 Status: OK PackageFile: midasHLA_1.12.0.tar.gz PackageFileSize: 1.885 MiB