Package: midasHLA Version: 1.12.0 Command: /home/biocbuild/bbs-3.19-bioc/R/bin/R CMD INSTALL midasHLA StartedAt: 2024-10-16 16:31:53 -0400 (Wed, 16 Oct 2024) EndedAt: 2024-10-16 16:32:24 -0400 (Wed, 16 Oct 2024) EllapsedTime: 30.4 seconds RetCode: 0 Status: OK