Package: midasHLA Version: 1.12.0 Command: F:\biocbuild\bbs-3.19-bioc\R\bin\R.exe CMD INSTALL midasHLA StartedAt: 2024-06-26 16:34:55 -0400 (Wed, 26 Jun 2024) EndedAt: 2024-06-26 16:35:50 -0400 (Wed, 26 Jun 2024) EllapsedTime: 55.4 seconds RetCode: 0 Status: OK