Package: midasHLA Version: 1.12.0 Command: rm -rf midasHLA.buildbin-libdir && mkdir midasHLA.buildbin-libdir && E:\biocbuild\bbs-3.19-bioc\R\bin\R.exe CMD INSTALL --build --library=midasHLA.buildbin-libdir midasHLA_1.12.0.tar.gz StartedAt: 2024-10-17 08:08:22 -0400 (Thu, 17 Oct 2024) EndedAt: 2024-10-17 08:09:30 -0400 (Thu, 17 Oct 2024) EllapsedTime: 67.5 seconds RetCode: 0 Status: OK PackageFile: midasHLA_1.12.0.zip PackageFileSize: 2.8 MiB