Package: midasHLA Version: 1.12.0 Command: E:\biocbuild\bbs-3.19-bioc\R\bin\R.exe CMD INSTALL midasHLA StartedAt: 2024-10-16 17:02:10 -0400 (Wed, 16 Oct 2024) EndedAt: 2024-10-16 17:03:10 -0400 (Wed, 16 Oct 2024) EllapsedTime: 60.1 seconds RetCode: 0 Status: OK