Package: mimager Version: 1.28.0 Command: /Library/Frameworks/R.framework/Resources/bin/R CMD check --install=check:mimager.install-out.txt --library=/Library/Frameworks/R.framework/Resources/library --no-vignettes --timings mimager_1.28.0.tar.gz StartedAt: 2024-10-18 04:05:59 -0400 (Fri, 18 Oct 2024) EndedAt: 2024-10-18 04:10:25 -0400 (Fri, 18 Oct 2024) EllapsedTime: 265.4 seconds RetCode: 0 Status: OK CheckDir: mimager.Rcheck Warnings: 0