Package: mimager Version: 1.28.0 Command: /Library/Frameworks/R.framework/Resources/bin/R CMD INSTALL mimager StartedAt: 2024-10-16 16:14:03 -0400 (Wed, 16 Oct 2024) EndedAt: 2024-10-16 16:14:35 -0400 (Wed, 16 Oct 2024) EllapsedTime: 31.5 seconds RetCode: 0 Status: OK