Package: mimager Version: 1.28.0 Command: /Library/Frameworks/R.framework/Resources/bin/R CMD check --install=check:mimager.install-out.txt --library=/Library/Frameworks/R.framework/Resources/library --no-vignettes --timings mimager_1.28.0.tar.gz StartedAt: 2024-06-10 22:03:45 -0400 (Mon, 10 Jun 2024) EndedAt: 2024-06-10 22:10:37 -0400 (Mon, 10 Jun 2024) EllapsedTime: 411.8 seconds RetCode: 0 Status: OK CheckDir: mimager.Rcheck Warnings: 0