Package: mimager Version: 1.28.0 Command: /home/biocbuild/R/R-beta-2024-04-15_r86425/bin/R CMD check --install=check:mimager.install-out.txt --library=/home/biocbuild/R/R-beta-2024-04-15_r86425/site-library --no-vignettes --timings mimager_1.28.0.tar.gz StartedAt: 2024-05-09 09:26:53 -0000 (Thu, 09 May 2024) EndedAt: 2024-05-09 09:31:27 -0000 (Thu, 09 May 2024) EllapsedTime: 274.4 seconds RetCode: 0 Status: OK CheckDir: mimager.Rcheck Warnings: 0