Package: mimager Version: 1.28.0 Command: /home/biocbuild/R/R-beta-2024-04-15_r86425/bin/R CMD INSTALL mimager StartedAt: 2024-05-08 20:18:54 -0000 (Wed, 08 May 2024) EndedAt: 2024-05-08 20:19:30 -0000 (Wed, 08 May 2024) EllapsedTime: 36.2 seconds RetCode: 0 Status: OK