Package: mimager Version: 1.28.0 Command: rm -rf mimager.buildbin-libdir && mkdir mimager.buildbin-libdir && E:\biocbuild\bbs-3.19-bioc\R\bin\R.exe CMD INSTALL --build --library=mimager.buildbin-libdir mimager_1.28.0.tar.gz StartedAt: 2024-10-17 08:08:26 -0400 (Thu, 17 Oct 2024) EndedAt: 2024-10-17 08:09:01 -0400 (Thu, 17 Oct 2024) EllapsedTime: 35.0 seconds RetCode: 0 Status: OK PackageFile: mimager_1.28.0.zip PackageFileSize: 713.5 KiB