Package: mina Version: 1.12.0 Command: /Library/Frameworks/R.framework/Resources/bin/R CMD build --keep-empty-dirs --no-resave-data mina StartedAt: 2024-10-17 04:27:26 -0400 (Thu, 17 Oct 2024) EndedAt: 2024-10-17 04:30:26 -0400 (Thu, 17 Oct 2024) EllapsedTime: 180.2 seconds RetCode: 0 Status: OK PackageFile: mina_1.12.0.tar.gz PackageFileSize: 4.018 MiB