Package: mina Version: 1.12.0 Command: /home/biocbuild/bbs-3.19-bioc/R/bin/R CMD build --keep-empty-dirs --no-resave-data mina StartedAt: 2024-10-16 19:29:03 -0400 (Wed, 16 Oct 2024) EndedAt: 2024-10-16 19:31:06 -0400 (Wed, 16 Oct 2024) EllapsedTime: 123.2 seconds RetCode: 0 Status: OK PackageFile: mina_1.12.0.tar.gz PackageFileSize: 4.018 MiB