Package: mina Version: 1.12.0 Command: rm -rf mina.buildbin-libdir && mkdir mina.buildbin-libdir && F:\biocbuild\bbs-3.19-bioc\R\bin\R.exe CMD INSTALL --build --library=mina.buildbin-libdir mina_1.12.0.tar.gz StartedAt: 2024-06-27 08:30:35 -0400 (Thu, 27 Jun 2024) EndedAt: 2024-06-27 08:31:42 -0400 (Thu, 27 Jun 2024) EllapsedTime: 67.3 seconds RetCode: 0 Status: OK PackageFile: mina_1.12.0.zip PackageFileSize: 8.151 MiB