Package: mina Version: 1.12.0 Command: chmod a+r mina -R && E:\biocbuild\bbs-3.19-bioc\R\bin\R.exe CMD build --keep-empty-dirs --no-resave-data mina StartedAt: 2024-10-16 20:18:51 -0400 (Wed, 16 Oct 2024) EndedAt: 2024-10-16 20:22:20 -0400 (Wed, 16 Oct 2024) EllapsedTime: 208.9 seconds RetCode: 0 Status: OK PackageFile: mina_1.12.0.tar.gz PackageFileSize: 4.018 MiB