Package: minet Version: 3.62.0 Command: /home/biocbuild/R/R-beta-2024-04-15_r86425/bin/R CMD build --keep-empty-dirs --no-resave-data minet StartedAt: 2024-05-09 01:40:02 -0000 (Thu, 09 May 2024) EndedAt: 2024-05-09 01:40:03 -0000 (Thu, 09 May 2024) EllapsedTime: 1.0 seconds RetCode: 0 Status: OK PackageFile: minet_3.62.0.tar.gz PackageFileSize: 50.13 KiB