Package: minet Version: 3.62.0 Command: E:\biocbuild\bbs-3.19-bioc\R\bin\R.exe CMD INSTALL minet StartedAt: 2024-10-16 17:14:57 -0400 (Wed, 16 Oct 2024) EndedAt: 2024-10-16 17:15:10 -0400 (Wed, 16 Oct 2024) EllapsedTime: 13.6 seconds RetCode: 0 Status: OK