Package: minfi Version: 1.50.0 Command: rm -rf minfi.buildbin-libdir && mkdir minfi.buildbin-libdir && /Users/biocbuild/BBS/utils/build-universal.sh minfi_1.50.0.tar.gz /Library/Frameworks/R.framework/Resources/bin/R minfi.buildbin-libdir StartedAt: 2024-06-10 00:27:11 -0400 (Mon, 10 Jun 2024) EndedAt: 2024-06-10 00:28:21 -0400 (Mon, 10 Jun 2024) EllapsedTime: 70.0 seconds RetCode: 0 Status: OK PackageFile: minfi_1.50.0.tgz PackageFileSize: 1.532 MiB