Package: minfi Version: 1.50.0 Command: F:\biocbuild\bbs-3.19-bioc\R\bin\R.exe CMD check --no-multiarch --install=check:minfi.install-out.txt --library=F:\biocbuild\bbs-3.19-bioc\R\library --no-vignettes --timings minfi_1.50.0.tar.gz StartedAt: 2024-06-27 03:39:32 -0400 (Thu, 27 Jun 2024) EndedAt: 2024-06-27 03:49:05 -0400 (Thu, 27 Jun 2024) EllapsedTime: 573.4 seconds RetCode: 0 Status: WARNINGS CheckDir: minfi.Rcheck Warnings: 1