Package: minfi Version: 1.50.0 Command: E:\biocbuild\bbs-3.19-bioc\R\bin\R.exe CMD check --no-multiarch --install=check:minfi.install-out.txt --library=E:\biocbuild\bbs-3.19-bioc\R\library --no-vignettes --timings minfi_1.50.0.tar.gz StartedAt: 2024-10-17 03:22:41 -0400 (Thu, 17 Oct 2024) EndedAt: 2024-10-17 03:33:07 -0400 (Thu, 17 Oct 2024) EllapsedTime: 625.9 seconds RetCode: 0 Status: OK CheckDir: minfi.Rcheck Warnings: 0