Package: minfi Version: 1.50.0 Command: E:\biocbuild\bbs-3.19-bioc\R\bin\R.exe CMD INSTALL minfi StartedAt: 2024-10-16 17:15:04 -0400 (Wed, 16 Oct 2024) EndedAt: 2024-10-16 17:16:31 -0400 (Wed, 16 Oct 2024) EllapsedTime: 87.2 seconds RetCode: 0 Status: OK