Package: mirTarRnaSeq Version: 1.12.0 Command: /Library/Frameworks/R.framework/Resources/bin/R CMD INSTALL mirTarRnaSeq StartedAt: 2024-10-16 16:03:54 -0400 (Wed, 16 Oct 2024) EndedAt: 2024-10-16 16:04:07 -0400 (Wed, 16 Oct 2024) EllapsedTime: 12.6 seconds RetCode: 0 Status: OK