Package: mirTarRnaSeq Version: 1.12.0 Command: /Library/Frameworks/R.framework/Resources/bin/R CMD check --install=check:mirTarRnaSeq.install-out.txt --library=/Library/Frameworks/R.framework/Resources/library --no-vignettes --timings mirTarRnaSeq_1.12.0.tar.gz StartedAt: 2024-06-10 22:20:48 -0400 (Mon, 10 Jun 2024) EndedAt: 2024-06-10 22:22:49 -0400 (Mon, 10 Jun 2024) EllapsedTime: 120.9 seconds RetCode: 0 Status: OK CheckDir: mirTarRnaSeq.Rcheck Warnings: 0