Package: mirTarRnaSeq Version: 1.12.0 Command: chmod a+r mirTarRnaSeq -R && E:\biocbuild\bbs-3.19-bioc\R\bin\R.exe CMD build --keep-empty-dirs --no-resave-data mirTarRnaSeq StartedAt: 2024-10-16 20:21:31 -0400 (Wed, 16 Oct 2024) EndedAt: 2024-10-16 20:26:22 -0400 (Wed, 16 Oct 2024) EllapsedTime: 290.7 seconds RetCode: 0 Status: OK PackageFile: mirTarRnaSeq_1.12.0.tar.gz PackageFileSize: 3.419 MiB