Package: missMethyl Version: 1.38.0 Command: rm -rf missMethyl.buildbin-libdir && mkdir missMethyl.buildbin-libdir && /Users/biocbuild/BBS/utils/build-universal.sh missMethyl_1.38.0.tar.gz /Library/Frameworks/R.framework/Resources/bin/R missMethyl.buildbin-libdir StartedAt: 2024-10-18 19:29:13 -0400 (Fri, 18 Oct 2024) EndedAt: 2024-10-18 19:35:31 -0400 (Fri, 18 Oct 2024) EllapsedTime: 377.2 seconds RetCode: 0 Status: OK PackageFile: missMethyl_1.38.0.tgz PackageFileSize: 1.603 MiB