Package: missMethyl Version: 1.38.0 Command: /Library/Frameworks/R.framework/Resources/bin/R CMD build --keep-empty-dirs --no-resave-data missMethyl StartedAt: 2024-10-17 04:34:03 -0400 (Thu, 17 Oct 2024) EndedAt: 2024-10-17 04:53:21 -0400 (Thu, 17 Oct 2024) EllapsedTime: 1158.0 seconds RetCode: 0 Status: OK PackageFile: missMethyl_1.38.0.tar.gz PackageFileSize: 1.498 MiB