Package: missMethyl Version: 1.38.0 Command: /Library/Frameworks/R.framework/Resources/bin/R CMD check --install=check:missMethyl.install-out.txt --library=/Library/Frameworks/R.framework/Resources/library --no-vignettes --timings missMethyl_1.38.0.tar.gz StartedAt: 2024-10-18 04:19:32 -0400 (Fri, 18 Oct 2024) EndedAt: 2024-10-18 04:41:28 -0400 (Fri, 18 Oct 2024) EllapsedTime: 1316.6 seconds RetCode: 0 Status: OK CheckDir: missMethyl.Rcheck Warnings: 0