Package: missMethyl Version: 1.38.0 Command: rm -rf missMethyl.buildbin-libdir && mkdir missMethyl.buildbin-libdir && E:\biocbuild\bbs-3.19-bioc\R\bin\R.exe CMD INSTALL --build --library=missMethyl.buildbin-libdir missMethyl_1.38.0.tar.gz StartedAt: 2024-10-17 08:09:21 -0400 (Thu, 17 Oct 2024) EndedAt: 2024-10-17 08:13:41 -0400 (Thu, 17 Oct 2024) EllapsedTime: 260.1 seconds RetCode: 0 Status: OK PackageFile: missMethyl_1.38.0.zip PackageFileSize: 748.5 KiB