Package: missMethyl Version: 1.38.0 Command: chmod a+r missMethyl -R && E:\biocbuild\bbs-3.19-bioc\R\bin\R.exe CMD build --keep-empty-dirs --no-resave-data missMethyl StartedAt: 2024-10-16 20:21:35 -0400 (Wed, 16 Oct 2024) EndedAt: 2024-10-16 20:38:57 -0400 (Wed, 16 Oct 2024) EllapsedTime: 1042.1 seconds RetCode: 0 Status: OK PackageFile: missMethyl_1.38.0.tar.gz PackageFileSize: 635.5 KiB