Package: missRows Version: 1.24.0 Command: /home/biocbuild/R/R-beta-2024-04-15_r86425/bin/R CMD check --install=check:missRows.install-out.txt --library=/home/biocbuild/R/R-beta-2024-04-15_r86425/site-library --no-vignettes --timings missRows_1.24.0.tar.gz StartedAt: 2024-05-09 09:32:42 -0000 (Thu, 09 May 2024) EndedAt: 2024-05-09 09:36:52 -0000 (Thu, 09 May 2024) EllapsedTime: 250.4 seconds RetCode: 0 Status: OK CheckDir: missRows.Rcheck Warnings: 0