Package: missRows Version: 1.24.0 Command: /Library/Frameworks/R.framework/Resources/bin/R CMD build --keep-empty-dirs --no-resave-data missRows StartedAt: 2024-10-16 21:00:22 -0400 (Wed, 16 Oct 2024) EndedAt: 2024-10-16 21:05:25 -0400 (Wed, 16 Oct 2024) EllapsedTime: 303.6 seconds RetCode: 0 Status: OK PackageFile: missRows_1.24.0.tar.gz PackageFileSize: 608.7 KiB