Package: missRows Version: 1.24.0 Command: /home/biocbuild/bbs-3.19-bioc/R/bin/R CMD build --keep-empty-dirs --no-resave-data missRows StartedAt: 2024-10-16 19:31:31 -0400 (Wed, 16 Oct 2024) EndedAt: 2024-10-16 19:33:01 -0400 (Wed, 16 Oct 2024) EllapsedTime: 90.1 seconds RetCode: 0 Status: OK PackageFile: missRows_1.24.0.tar.gz PackageFileSize: 593.6 KiB