Package: mixOmics Version: 6.28.0 Command: /Library/Frameworks/R.framework/Resources/bin/R CMD build --keep-empty-dirs --no-resave-data mixOmics StartedAt: 2024-10-17 04:40:06 -0400 (Thu, 17 Oct 2024) EndedAt: 2024-10-17 04:50:37 -0400 (Thu, 17 Oct 2024) EllapsedTime: 631.1 seconds RetCode: 0 Status: OK PackageFile: mixOmics_6.28.0.tar.gz PackageFileSize: 19.81 MiB