Package: mixOmics Version: 6.28.0 Command: /Library/Frameworks/R.framework/Resources/bin/R CMD INSTALL mixOmics StartedAt: 2024-10-16 16:20:56 -0400 (Wed, 16 Oct 2024) EndedAt: 2024-10-16 16:21:31 -0400 (Wed, 16 Oct 2024) EllapsedTime: 35.0 seconds RetCode: 0 Status: OK