Package: mixOmics Version: 6.28.0 Command: /Library/Frameworks/R.framework/Resources/bin/R CMD build --keep-empty-dirs --no-resave-data mixOmics StartedAt: 2024-10-16 21:00:59 -0400 (Wed, 16 Oct 2024) EndedAt: 2024-10-16 21:28:47 -0400 (Wed, 16 Oct 2024) EllapsedTime: 1668.1 seconds RetCode: 0 Status: OK PackageFile: mixOmics_6.28.0.tar.gz PackageFileSize: 19.7 MiB