Package: mixOmics Version: 6.28.0 Command: /Library/Frameworks/R.framework/Resources/bin/R CMD INSTALL mixOmics StartedAt: 2024-10-16 15:27:22 -0400 (Wed, 16 Oct 2024) EndedAt: 2024-10-16 15:28:46 -0400 (Wed, 16 Oct 2024) EllapsedTime: 83.6 seconds RetCode: 0 Status: OK