Package: mixOmics Version: 6.28.0 Command: rm -rf mixOmics.buildbin-libdir && mkdir mixOmics.buildbin-libdir && F:\biocbuild\bbs-3.19-bioc\R\bin\R.exe CMD INSTALL --build --library=mixOmics.buildbin-libdir mixOmics_6.28.0.tar.gz StartedAt: 2024-06-27 08:31:29 -0400 (Thu, 27 Jun 2024) EndedAt: 2024-06-27 08:32:22 -0400 (Thu, 27 Jun 2024) EllapsedTime: 53.0 seconds RetCode: 0 Status: OK PackageFile: mixOmics_6.28.0.zip PackageFileSize: 11.31 MiB