Package: mobileRNA Version: 1.0.15 Command: rm -rf mobileRNA.buildbin-libdir && mkdir mobileRNA.buildbin-libdir && /Users/biocbuild/BBS/utils/build-universal.sh mobileRNA_1.0.15.tar.gz /Library/Frameworks/R.framework/Resources/bin/R mobileRNA.buildbin-libdir StartedAt: 2024-10-18 19:30:53 -0400 (Fri, 18 Oct 2024) EndedAt: 2024-10-18 19:31:48 -0400 (Fri, 18 Oct 2024) EllapsedTime: 54.2 seconds RetCode: 0 Status: OK PackageFile: mobileRNA_1.0.15.tgz PackageFileSize: 3.366 MiB