Package: mobileRNA Version: 1.0.15 Command: /Library/Frameworks/R.framework/Resources/bin/R CMD check --install=check:mobileRNA.install-out.txt --library=/Library/Frameworks/R.framework/Resources/library --no-vignettes --timings mobileRNA_1.0.15.tar.gz StartedAt: 2024-10-18 04:33:06 -0400 (Fri, 18 Oct 2024) EndedAt: 2024-10-18 04:38:52 -0400 (Fri, 18 Oct 2024) EllapsedTime: 346.0 seconds RetCode: 0 Status: OK CheckDir: mobileRNA.Rcheck Warnings: 0