Package: mobileRNA Version: 1.0.0 Command: /home/biocbuild/R/R-beta-2024-04-15_r86425/bin/R CMD build --keep-empty-dirs --no-resave-data mobileRNA StartedAt: 2024-05-09 01:47:16 -0000 (Thu, 09 May 2024) EndedAt: 2024-05-09 01:49:26 -0000 (Thu, 09 May 2024) EllapsedTime: 130.2 seconds RetCode: 0 Status: OK PackageFile: mobileRNA_1.0.0.tar.gz PackageFileSize: 2.883 MiB