Package: mobileRNA Version: 1.0.11 Command: rm -rf mobileRNA.buildbin-libdir && mkdir mobileRNA.buildbin-libdir && /Users/biocbuild/BBS/utils/build-universal.sh mobileRNA_1.0.11.tar.gz /Library/Frameworks/R.framework/Resources/bin/R mobileRNA.buildbin-libdir StartedAt: 2024-06-10 00:27:45 -0400 (Mon, 10 Jun 2024) EndedAt: 2024-06-10 00:28:36 -0400 (Mon, 10 Jun 2024) EllapsedTime: 51.9 seconds RetCode: 0 Status: OK PackageFile: mobileRNA_1.0.11.tgz PackageFileSize: 3.361 MiB