Package: mobileRNA Version: 1.0.11 Command: /Library/Frameworks/R.framework/Resources/bin/R CMD build --keep-empty-dirs --no-resave-data mobileRNA StartedAt: 2024-06-09 17:19:38 -0400 (Sun, 09 Jun 2024) EndedAt: 2024-06-09 17:21:26 -0400 (Sun, 09 Jun 2024) EllapsedTime: 108.7 seconds RetCode: 0 Status: OK PackageFile: mobileRNA_1.0.11.tar.gz PackageFileSize: 3.227 MiB