Package: mobileRNA Version: 1.0.11 Command: /Library/Frameworks/R.framework/Resources/bin/R CMD INSTALL mobileRNA StartedAt: 2024-06-09 15:21:10 -0400 (Sun, 09 Jun 2024) EndedAt: 2024-06-09 15:21:58 -0400 (Sun, 09 Jun 2024) EllapsedTime: 48.1 seconds RetCode: 0 Status: OK