Package: mobileRNA Version: 1.0.15 Command: /Library/Frameworks/R.framework/Resources/bin/R CMD build --keep-empty-dirs --no-resave-data mobileRNA StartedAt: 2024-10-16 21:04:44 -0400 (Wed, 16 Oct 2024) EndedAt: 2024-10-16 21:09:46 -0400 (Wed, 16 Oct 2024) EllapsedTime: 301.3 seconds RetCode: 0 Status: OK PackageFile: mobileRNA_1.0.15.tar.gz PackageFileSize: 3.231 MiB