Package: mobileRNA Version: 1.0.15 Command: /home/biocbuild/bbs-3.19-bioc/R/bin/R CMD build --keep-empty-dirs --no-resave-data mobileRNA StartedAt: 2024-10-16 19:34:03 -0400 (Wed, 16 Oct 2024) EndedAt: 2024-10-16 19:35:41 -0400 (Wed, 16 Oct 2024) EllapsedTime: 98.2 seconds RetCode: 0 Status: OK PackageFile: mobileRNA_1.0.15.tar.gz PackageFileSize: 3.146 MiB