Package: mobileRNA Version: 1.0.15 Command: /home/biocbuild/bbs-3.19-bioc/R/bin/R CMD check --install=check:mobileRNA.install-out.txt --library=/home/biocbuild/bbs-3.19-bioc/R/site-library --timings mobileRNA_1.0.15.tar.gz StartedAt: 2024-10-17 02:36:35 -0400 (Thu, 17 Oct 2024) EndedAt: 2024-10-17 02:42:25 -0400 (Thu, 17 Oct 2024) EllapsedTime: 350.6 seconds RetCode: 0 Status: OK CheckDir: mobileRNA.Rcheck Warnings: 0