Package: mobileRNA Version: 1.0.15 Command: /home/biocbuild/bbs-3.19-bioc/R/bin/R CMD INSTALL mobileRNA StartedAt: 2024-10-16 16:25:52 -0400 (Wed, 16 Oct 2024) EndedAt: 2024-10-16 16:26:27 -0400 (Wed, 16 Oct 2024) EllapsedTime: 35.4 seconds RetCode: 0 Status: OK