Package: mobileRNA Version: 1.0.15 Command: chmod a+r mobileRNA -R && E:\biocbuild\bbs-3.19-bioc\R\bin\R.exe CMD build --keep-empty-dirs --no-resave-data mobileRNA StartedAt: 2024-10-16 20:24:00 -0400 (Wed, 16 Oct 2024) EndedAt: 2024-10-16 20:26:14 -0400 (Wed, 16 Oct 2024) EllapsedTime: 133.5 seconds RetCode: 0 Status: OK PackageFile: mobileRNA_1.0.15.tar.gz PackageFileSize: 2.856 MiB