Package: mobileRNA Version: 1.0.15 Command: E:\biocbuild\bbs-3.19-bioc\R\bin\R.exe CMD check --no-multiarch --install=check:mobileRNA.install-out.txt --library=E:\biocbuild\bbs-3.19-bioc\R\library --no-vignettes --timings mobileRNA_1.0.15.tar.gz StartedAt: 2024-10-17 03:29:26 -0400 (Thu, 17 Oct 2024) EndedAt: 2024-10-17 03:34:58 -0400 (Thu, 17 Oct 2024) EllapsedTime: 332.2 seconds RetCode: 0 Status: OK CheckDir: mobileRNA.Rcheck Warnings: 0